BEGIN:VCALENDAR
VERSION:2.0
PRODID:-//ChamberMaster//Event Calendar 2.0//EN
METHOD:PUBLISH
X-PUBLISHED-TTL:P3D
REFRESH-INTERVAL:P3D
CALSCALE:GREGORIAN
BEGIN:VEVENT
DTSTART:20260319T220000Z
DTEND:20260319T230000Z
X-MICROSOFT-CDO-ALLDAYEVENT:FALSE
SUMMARY:Wildflowers and Wildlife: Sandplain Grasslands and Heathlands of Cape Cod & Nantucket
DESCRIPTION:Join Dr. Sarah Bois\, Director of Research and Conservation at the Linda Loring Nature Foundation\, for a deep dive into the botanical and biological wonders of the coastal grassland ecosystems of Nantucket in this live educational webinar hosted by the Alliance to Protect Nantucket Sound. These maritime sandplain grasslands are a globally imperiled habitat host to numerous rare and endangered flora and fauna. Sarah will guide us through why these grasslands and heathlands are so special\, how the maritime climate\, including wind and salt spray shape these habitats\, and what we are doing to protect them into the future. Register for free at: https://tinyurl.com/SOS-Flora.\n\n\n\n \n\nA Q&A session\, moderated by Alliance president and CEO Audra Parker\, will follow the presentation. Attendees will have an opportunity to ask Sarah questions during the Q&A.\n\n\n\nThe Linda Loring Nature Foundation preserves the biological diversity of its 275-acre property on Nantucket and connects people of all ages to nature through environmental education and research.\n\n\n\nThis webinar is part of the Alliance's ACONS (A Celebration of Nantucket Sound) webinar series\, launched in 2020.
X-ALT-DESC;FMTTYPE=text/html:<span style="color:black"><span style="font-family:arial\,sans-serif">Join <strong>Dr. Sarah Bois</strong>\, Director of Research and Conservation at the <strong>Linda Loring Nature Foundation</strong>\, for a deep dive into the botanical and biological wonders of the coastal grassland ecosystems of Nantucket in this live educational webinar hosted by the <strong>Alliance to Protect Nantucket Sound</strong>. These maritime sandplain grasslands are a globally&nbsp\;imperiled habitat host to numerous rare and endangered flora and fauna. Sarah will guide us through why these grasslands and heathlands are so special\, how the maritime&nbsp\;climate\, including&nbsp\;wind and salt spray shape these habitats\, and what we are doing&nbsp\;to protect them into the future. Register for free at:&nbsp\;</span><a href="https://tinyurl.com/SOS-Flora"><span style="font-family:arial\,sans-serif"><span style="font-size:12.0pt">https://tinyurl.com/SOS-Flora</span></span></a>.</span><br />\n<br />\n&nbsp\;<br />\n<span style="color:black"><span style="font-family:arial\,sans-serif">A Q&amp\;A session\, moderated by Alliance president and CEO <strong>Audra Parker</strong>\, will follow the presentation. Attendees will have an opportunity to ask Sarah questions during the Q&amp\;A.</span></span><br />\n<br />\n<span style="color:black"><span style="font-family:arial\,sans-serif">The <strong>Linda Loring Nature Foundation</strong> preserves the biological diversity of its 275-acre property on Nantucket and connects people of all ages to nature through environmental education and research.<br />\n<br />\nThis webinar is part of the Alliance&#39\;s <strong><a href="http://www.saveoursound.org/acons">ACONS (<em>A Celebration of Nantucket Sound</em>)</a></strong> webinar series\, launched in 2020.&nbsp\;</span></span><br />\n&nbsp\;
LOCATION:Virtual\; on Zoom
UID:e.1945.25751
SEQUENCE:3
DTSTAMP:20260425T003614Z
URL:https://business.harwichcc.com/events/details/wildflowers-and-wildlife-sandplain-grasslands-and-heathlands-of-cape-cod-nantucket-25751
END:VEVENT

END:VCALENDAR
