BEGIN:VCALENDAR
VERSION:2.0
PRODID:-//ChamberMaster//Event Calendar 2.0//EN
METHOD:PUBLISH
X-PUBLISHED-TTL:P3D
REFRESH-INTERVAL:P3D
CALSCALE:GREGORIAN
BEGIN:VEVENT
DTSTART:20250711T140000Z
DTEND:20250711T200000Z
X-MICROSOFT-CDO-ALLDAYEVENT:FALSE
SUMMARY:Village Crafters of Cape Cod
DESCRIPTION:Arts and Crafts show for Chase Library including a Chase Library book sale
X-ALT-DESC;FMTTYPE=text/html:<span style="font-size:16px\;"><span style="font-family:verdana\;"><span style="color:#ff6633\;"><strong>&nbsp\;Arts and Crafts show for Chase Library including a Chase Library book sale</strong></span></span></span>
LOCATION:Doane Park\, Harwich Port
UID:e.1945.25689
SEQUENCE:3
DTSTAMP:20260420T135526Z
URL:https://business.harwichcc.com/events/details/village-crafters-of-cape-cod-25689
END:VEVENT

END:VCALENDAR
