BEGIN:VCALENDAR
VERSION:2.0
PRODID:-//ChamberMaster//Event Calendar 2.0//EN
METHOD:PUBLISH
X-PUBLISHED-TTL:P3D
REFRESH-INTERVAL:P3D
CALSCALE:GREGORIAN
BEGIN:VEVENT
DTSTART:20231117T230000Z
DTEND:20231118T030000Z
X-MICROSOFT-CDO-ALLDAYEVENT:FALSE
SUMMARY:Toast of Harwich
DESCRIPTION:Annual Toast of Harwich \n\nFabulous Culinary Tastings and Beverage Samplings
X-ALT-DESC;FMTTYPE=text/html:<div style="text-align: center\;">\n<h2 style="overflow-wrap: break-word\; border: 0px\; font-family: Lato\; font-size: 1.6em\; margin: 1em 0px 0px\; outline: 0px\; padding: 0px\; vertical-align: baseline\; background-color: rgba(255\, 254\, 254\, 0.8)\; text-align: center\;"><span style="color:#0000CD\;"><b>Annual Toast of Harwich&nbsp\;</b></span></h2>\n\n<p><span style="font-size:16px\;"><span style="font-family:comic sans ms\;"><span style="color:#0000CD\;"><strong>Fabulous Culinary Tastings and Beverage Samplings</strong></span></span></span></p>\n\n<p>&nbsp\;</p>\n\n<p>&nbsp\;</p>\n</div>\n
LOCATION:Harwich's Five Star Resort Wequassett Resort and Golf Club on Pleasant Bay
UID:e.1945.24495
SEQUENCE:3
DTSTAMP:20260420T095036Z
URL:https://business.harwichcc.com/events/details/toast-of-harwich-24495
END:VEVENT

END:VCALENDAR
