BEGIN:VCALENDAR
VERSION:2.0
PRODID:-//ChamberMaster//Event Calendar 2.0//EN
METHOD:PUBLISH
X-PUBLISHED-TTL:P3D
REFRESH-INTERVAL:P3D
CALSCALE:GREGORIAN
BEGIN:VEVENT
DTSTART:20261120T230000Z
DTEND:20261121T030000Z
X-MICROSOFT-CDO-ALLDAYEVENT:FALSE
SUMMARY:The Toast at Wychmere
DESCRIPTION:NEW LOCATION.. The Toast- at Wychmere Harbor Room\n\nBringing together a variety of our member restaurants along with local craft beers\, Josh Wines and more... for a celebration
X-ALT-DESC;FMTTYPE=text/html:<p><span style="font-size:14px\;"><span style="color:#4B0082\;"><span style="font-family:verdana\;"><strong>NEW LOCATION.. The Toast- at Wychmere Harbor Room</strong></span></span></span></p>\n\n<p><span style="color:#4B0082\;"><span style="font-size:16px\;"><span style="font-family:verdana\;"><strong>Bringing together a variety of our member restaurants&nbsp\;along with local craft beers\, Josh Wines and more... for a celebration&nbsp\;</strong></span></span></span></p>\n\n<p>&nbsp\;</p>\n
LOCATION:Wychmere Harbor Room
UID:e.1945.25760
SEQUENCE:3
DTSTAMP:20260423T150132Z
URL:https://business.harwichcc.com/events/details/the-toast-at-wychmere-25760
END:VEVENT

END:VCALENDAR
