BEGIN:VCALENDAR
VERSION:2.0
PRODID:-//ChamberMaster//Event Calendar 2.0//EN
METHOD:PUBLISH
X-PUBLISHED-TTL:P3D
REFRESH-INTERVAL:P3D
CALSCALE:GREGORIAN
BEGIN:VEVENT
DTSTART:20250411T230000Z
DTEND:20250413T193000Z
X-MICROSOFT-CDO-ALLDAYEVENT:FALSE
SUMMARY:The Lion\, the Witch\, and the Wardrobe
DESCRIPTION:Dramatized by Joseph Robinette from the story by C.S. Lewis. Directed by Anthony Teixeira. When Peter\, Susan\, Edmund and Lucy inadvertently wander through an old wardrobe door they find themselves in a land of snow and pine forests\, frozen in eternal winter\, and ruled by the terrible White Witch. Step into the magic and mystery of Narnia with the faithful dramatization of C.S. Lewis' classic work!
X-ALT-DESC;FMTTYPE=text/html:Dramatized by Joseph Robinette from the story by C.S. Lewis. Directed by Anthony Teixeira. When Peter\, Susan\, Edmund and Lucy inadvertently wander through an old wardrobe door they find themselves in a land of snow and pine forests\, frozen in eternal winter\, and ruled by the terrible White Witch. Step into the magic and mystery of Narnia with the faithful dramatization of C.S. Lewis&#39\; classic work!
LOCATION:CCTC/HJT 105 Division St. W. Harwich\, MA
UID:e.1945.25601
SEQUENCE:3
DTSTAMP:20260420T182335Z
URL:https://business.harwichcc.com/events/details/the-lion-the-witch-and-the-wardrobe-04-11-2025-25601
END:VEVENT

END:VCALENDAR
