BEGIN:VCALENDAR
VERSION:2.0
PRODID:-//ChamberMaster//Event Calendar 2.0//EN
METHOD:PUBLISH
X-PUBLISHED-TTL:P3D
REFRESH-INTERVAL:P3D
CALSCALE:GREGORIAN
BEGIN:VEVENT
DTSTART:20260428T210000Z
DTEND:20260428T230000Z
X-MICROSOFT-CDO-ALLDAYEVENT:FALSE
SUMMARY:Is Your Business Exit Ready?
DESCRIPTION:Is your business exit ready?\n\nIf you plan to exit your business someday\, preparation matters. In this workshop\, you will learn the strategies to help your business prepare\, maximize value\, and create a successful exit. This is a great opportunity to think ahead\, protect what you've built\, and plan for the future on your terms. Whether you're years away or just beginning to consider the next steps\, this session will provide practical tools and insight.\n\nSpeakers:\n\n\n	Dan Wolf\, Cape Air Founder\, Former CEO\, & Board Chair\n	Nat Santoro\, Certified Commercial Investment Member with Kinlin Grover Compass Commercial\n	Chris Ward\, Managing Partner at La Tanzi\, Spaulding & Landreth\n\n\nWhen:\n\nTuesday\, April 28\, 2026 | 5 p.m. - 7 p.m. \n\nWhere: Hybrid \n\nZoom \n\nCDP Office: 180 Cranberry Highway\, Unit 5\, Orleans\, MA 02653 \n\nThis program is funded by MassDevelopment.
X-ALT-DESC;FMTTYPE=text/html:<p><span style="font-family:verdana\,geneva\,sans-serif\; font-size:14px"><strong>Is your business exit ready?</strong></span></p>\n\n<p><span style="font-family:verdana\,geneva\,sans-serif\; font-size:14px">If you plan to exit your business someday\, preparation matters. In this workshop\, you will learn the strategies to help your business prepare\, maximize value\, and create a successful exit.&nbsp\;This is a great opportunity to think ahead\, protect what you&#39\;ve built\, and plan for the future on your terms. Whether you&#39\;re years away or just beginning to consider the next steps\, this session will provide practical tools and insight.</span></p>\n\n<p><span style="font-family:verdana\,geneva\,sans-serif\; font-size:14px"><strong>Speakers:</strong></span></p>\n\n<ul>\n	<li><span style="font-family:verdana\,geneva\,sans-serif\; font-size:14px">Dan Wolf\, Cape Air Founder\, Former CEO\, &amp\; Board Chair</span></li>\n	<li><span style="font-family:verdana\,geneva\,sans-serif\; font-size:14px">Nat Santoro\, Certified Commercial Investment Member with Kinlin Grover Compass Commercial</span></li>\n	<li><span style="font-family:verdana\,geneva\,sans-serif\; font-size:14px">Chris Ward\, Managing Partner at La Tanzi\,&nbsp\;Spaulding &amp\; Landreth</span></li>\n</ul>\n\n<p><span style="font-family:verdana\,geneva\,sans-serif\; font-size:14px"><strong>When:</strong></span></p>\n\n<p><span style="font-family:verdana\,geneva\,sans-serif\; font-size:14px">Tuesday\, April 28\, 2026 | 5 p.m. - 7 p.m.&nbsp\;</span></p>\n\n<p><span style="font-family:verdana\,geneva\,sans-serif\; font-size:14px"><strong>Where:&nbsp\;</strong>Hybrid&nbsp\;</span></p>\n\n<p><span style="font-family:verdana\,geneva\,sans-serif\; font-size:14px">Zoom&nbsp\;</span></p>\n\n<p><span style="font-family:verdana\,geneva\,sans-serif\; font-size:14px">CDP Office: 180 Cranberry Highway\, Unit 5\, Orleans\, MA 02653&nbsp\;</span></p>\n\n<p><em><em><span style="font-family:verdana\,geneva\,sans-serif\; font-size:14px">This program is funded by MassDevelopment.</span></em></em><span style="font-family:verdana\,geneva\,sans-serif\; font-size:14px">&nbsp\;</span></p>\n
LOCATION:Hybrid Zoom CDP Office: 180 Cranberry Highway\, Unit 5\, Orleans\, MA 02653
UID:e.1945.25778
SEQUENCE:3
DTSTAMP:20260420T204611Z
URL:https://business.harwichcc.com/events/details/is-your-business-exit-ready-25778
END:VEVENT

END:VCALENDAR
