BEGIN:VCALENDAR
VERSION:2.0
PRODID:-//ChamberMaster//Event Calendar 2.0//EN
METHOD:PUBLISH
X-PUBLISHED-TTL:P3D
REFRESH-INTERVAL:P3D
CALSCALE:GREGORIAN
BEGIN:VEVENT
DTSTART:20231118T140000Z
DTEND:20231118T190000Z
X-MICROSOFT-CDO-ALLDAYEVENT:FALSE
SUMMARY:Harwich United Methodist Church Holiday Fairs
DESCRIPTION:Holiday Fair- Baked Goods\, Knitted Items\, Attic Treasures\, Handcrafts\, Handmade Christmas Ornaments\, Jewelry\, Plants and Rada Cutlery\n\nCoffee & Pastries 9-2pm\n\n Luncheon 11am-1pm Chowdah Too! Eat In or take Out
X-ALT-DESC;FMTTYPE=text/html:<p><span style="color:#008000\;"><span style="font-size:14px\;"><span style="font-family:comic sans ms\;"><strong>Holiday Fair- Baked Goods\, Knitted Items\, Attic Treasures\, Handcrafts\, Handmade Christmas Ornaments\, Jewelry\, Plants and Rada Cutlery<br />\nCoffee &amp\; Pastries 9-2pm</strong></span></span></span></p>\n\n<p><span style="color:#008000\;"><span style="font-size:14px\;"><span style="font-family:comic sans ms\;"><strong>&nbsp\;Luncheon 11am-1pm Chowdah Too! Eat In or take Out</strong></span></span></span></p>\n
LOCATION:Harwich United Methodist Church 1 Church Street East Harwich\, MA
UID:e.1945.25042
SEQUENCE:3
DTSTAMP:20260420T095931Z
URL:https://business.harwichcc.com/events/details/harwich-united-methodist-church-holiday-fairs-25042
END:VEVENT

END:VCALENDAR
