BEGIN:VCALENDAR
VERSION:2.0
PRODID:-//ChamberMaster//Event Calendar 2.0//EN
METHOD:PUBLISH
X-PUBLISHED-TTL:P3D
REFRESH-INTERVAL:P3D
CALSCALE:GREGORIAN
BEGIN:VEVENT
DTSTART:20180721T210000Z
DTEND:20180721T230000Z
X-MICROSOFT-CDO-ALLDAYEVENT:FALSE
SUMMARY:Harwich Historical Society
DESCRIPTION:I am of Cape Cod Author John Whelan and Photographer Kim Roderiques will be at the Brooks Academy Museum from 5pm-7pm with Books for Sale. John will be discussing the book. Free Event- Beverages and Munchies available.
X-ALT-DESC;FMTTYPE=text/html:<span style="color: rgb(165\, 42\, 42)\;"><strong>I am of Cape Cod Author John Whelan and Photographer Kim Roderiques will be at the Brooks Academy Museum from 5pm-7pm </strong>with Books for Sale. John will be discussing the book. Free Event- Beverages and Munchies available.</span><br />\n&nbsp\;
LOCATION:Brooks Academy Museum -80 Parellel Street Harwich Center
UID:e.1945.20371
SEQUENCE:3
DTSTAMP:20260420T095932Z
URL:https://business.harwichcc.com/events/details/harwich-historical-society-20371
END:VEVENT

END:VCALENDAR
