BEGIN:VCALENDAR
VERSION:2.0
PRODID:-//ChamberMaster//Event Calendar 2.0//EN
METHOD:PUBLISH
X-PUBLISHED-TTL:P3D
REFRESH-INTERVAL:P3D
CALSCALE:GREGORIAN
BEGIN:VEVENT
DTSTART:20220918T130000Z
DTEND:20220919T000000Z
X-MICROSOFT-CDO-ALLDAYEVENT:FALSE
SUMMARY:Harwich Cranberry Arts & Music Festival
DESCRIPTION:Arts\, Crafts\, Music and Food. \n\nCraft Fair 9 am - 4 pm\n\nMusic Festival 12:30 - dark on Saturday and Noon-3 on Sunday
X-ALT-DESC;FMTTYPE=text/html:Arts\, Crafts\, Music and Food.&nbsp\;<br />\nCraft Fair 9 am - 4 pm<br />\nMusic Festival 12:30 - dark on Saturday and Noon-3 on Sunday
LOCATION:Community Center Fields 100 Oak Street Harwich Center
UID:e.1945.24415
SEQUENCE:3
DTSTAMP:20260423T050607Z
URL:https://business.harwichcc.com/events/details/harwich-cranberry-arts-music-festival-24415
END:VEVENT

END:VCALENDAR
