BEGIN:VCALENDAR
VERSION:2.0
PRODID:-//ChamberMaster//Event Calendar 2.0//EN
METHOD:PUBLISH
X-PUBLISHED-TTL:P3D
REFRESH-INTERVAL:P3D
CALSCALE:GREGORIAN
BEGIN:VEVENT
DTSTART:20220912T140000Z
DTEND:20220912T210000Z
X-MICROSOFT-CDO-ALLDAYEVENT:FALSE
SUMMARY:Guild of Harwich Artists - Art in the Park
DESCRIPTION:Art in The Park season kicks off Monday\, July 4\, 2022. Members of The Guild of Harwich Artists exhibit and sell paintings\, prints\, fine crafts and jewelry in Harwich Port's Doane Park. Art in the Park will be held every Monday from 10am to 5pm through September 19th.
X-ALT-DESC;FMTTYPE=text/html:Art in The Park season kicks off Monday\, July 4\, 2022. Members of The Guild of Harwich Artists exhibit and sell paintings\, prints\, fine crafts and jewelry in Harwich Port&rsquo\;s Doane Park. Art in the Park will be held every Monday from 10am to 5pm through September 19th.&nbsp\;
LOCATION:Doane Park\, Post Office Square
UID:e.1945.24346
SEQUENCE:3
DTSTAMP:20260423T050308Z
URL:https://business.harwichcc.com/events/details/guild-of-harwich-artists-art-in-the-park-09-12-2022-24346
END:VEVENT

END:VCALENDAR
