BEGIN:VCALENDAR
VERSION:2.0
PRODID:-//ChamberMaster//Event Calendar 2.0//EN
METHOD:PUBLISH
X-PUBLISHED-TTL:P3D
REFRESH-INTERVAL:P3D
CALSCALE:GREGORIAN
BEGIN:VEVENT
DTSTART:20180624T210000Z
DTEND:20180625T000000Z
X-MICROSOFT-CDO-ALLDAYEVENT:FALSE
SUMMARY:Family Pantry Gala
DESCRIPTION:Annual Family Pantry Gala to be held at Wychmere Beach Club
X-ALT-DESC;FMTTYPE=text/html:Annual Family Pantry Gala to be held at Wychmere Beach Club
LOCATION:Wychmere Beach Club 123 Snow Inn Road Harwich Port
UID:e.1945.19553
SEQUENCE:3
DTSTAMP:20260420T083726Z
URL:https://business.harwichcc.com/events/details/family-pantry-gala-19553
END:VEVENT

END:VCALENDAR
