BEGIN:VCALENDAR
VERSION:2.0
PRODID:-//ChamberMaster//Event Calendar 2.0//EN
METHOD:PUBLISH
X-PUBLISHED-TTL:P3D
REFRESH-INTERVAL:P3D
CALSCALE:GREGORIAN
BEGIN:VEVENT
DTSTART:20230720T220000Z
DTEND:20230721T010000Z
X-MICROSOFT-CDO-ALLDAYEVENT:FALSE
SUMMARY:Cranfest in the Courtyard
DESCRIPTION:Outdoor Courtyard at The 204 Sisson Municipal Building for a series of Thursday evening acoustic concerts.   \n\nConcerts rain or shine. . . . we'll move inside to the auditorium in case of bad weather.\n\nLineup\n\nJuly 6- Kate Campbell\n\nJuly 13- Alice Howe & Freebo\n\nJuly 20-Diana James\n\nJuly 27-Crystal Shawanda\n\nAugust 3-Joe Jencks\n\nAugust 10-Lucy Kaplansky\n\nAugust 17- The Barefoot Movement\n\nAugust 24-Reverie Road \n\n**Season Finale- Friday Sept 1st- John Gorka
X-ALT-DESC;FMTTYPE=text/html:<p><span style="font-size:16px\;"><span style="font-family:tahoma\;">&nbsp\;Outdoor Courtyard at The 204 Sisson Municipal Building for a series of Thursday evening acoustic concerts. </span></span><span style="font-size:16px\;"><span style="font-family:tahoma\;">&nbsp\;&nbsp\;<br />\nConcerts rain or shine. . . . we&#39\;ll move inside to the auditorium in case of bad weather.</span></span><br />\n<span style="font-size:16px\;"><span style="font-family:tahoma\;"><strong>Lineup</strong></span></span></p>\n\n<p><span style="font-size:16px\;"><span style="font-family:tahoma\;"><strong>July 6- Kate Campbell<br />\nJuly 13- Alice Howe &amp\; Freebo<br />\nJuly 20-Diana James<br />\nJuly 27-Crystal Shawanda<br />\nAugust 3-Joe Jencks<br />\nAugust 10-Lucy Kaplansky<br />\nAugust 17- The Barefoot Movement<br />\nAugust 24-Reverie Road&nbsp\;</strong></span></span></p>\n\n<p><span style="font-size:16px\;"><span style="font-family:tahoma\;"><strong>**Season Finale- Friday Sept 1st- John Gorka</strong></span></span></p>\n
LOCATION:The 204 Sisson Municipal Building Courtyard
UID:e.1945.24976
SEQUENCE:3
DTSTAMP:20260420T215503Z
URL:https://business.harwichcc.com/events/details/cranfest-in-the-courtyard-24976
END:VEVENT

END:VCALENDAR
