BEGIN:VCALENDAR
VERSION:2.0
PRODID:-//ChamberMaster//Event Calendar 2.0//EN
METHOD:PUBLISH
X-PUBLISHED-TTL:P3D
REFRESH-INTERVAL:P3D
CALSCALE:GREGORIAN
BEGIN:VEVENT
DTSTART:20260509T190000Z
DTEND:20260509T210000Z
X-MICROSOFT-CDO-ALLDAYEVENT:FALSE
SUMMARY:Cape Community Orchestra Spring Concert
DESCRIPTION:The Cape Community Orchestra\, under the direction of Maestro Nancy Torrente\, invites you to our spring concert\, Twilight to Triumph: Music Celebrating Life's Victories. The concert begins with Copland's Saturday Night Waltz\, includes pieces from Mahler and Dvorak\, and concludes with Holst's Mars\, Bringer of War. The concert will also be performed at 3:00pm on Sunday May 10 at Dennis-Yarmouth Intermediate School \, 286 Station Ave. South Yarmouth MA The Cape Community Orchestra is a community-based ensemble bringing together musicians of all ages and backgrounds from across Cape Cod.
X-ALT-DESC;FMTTYPE=text/html:The Cape Community Orchestra\, under the direction of Maestro Nancy Torrente\, invites you to our spring concert\, Twilight to Triumph: Music Celebrating Life&rsquo\;s Victories. The concert begins with Copland&#39\;s Saturday Night Waltz\, includes pieces from Mahler and Dvorak\, and concludes with Holst&#39\;s Mars\, Bringer of War. The concert will also be performed at 3:00pm on Sunday May 10 at Dennis-Yarmouth Intermediate School \, 286 Station Ave. South Yarmouth MA The Cape Community Orchestra is a community-based ensemble bringing together musicians of all ages and backgrounds from across Cape Cod.
LOCATION:Saturday May 9 at Monomoy Regional High School 75 Oak Street Harwich MA Sunday May 10 at Dennis-Yarmouth Intermediate School
UID:e.1945.25780
SEQUENCE:3
DTSTAMP:20260420T204815Z
URL:https://business.harwichcc.com/events/details/cape-community-orchestra-spring-concert-25780
END:VEVENT

END:VCALENDAR
