BEGIN:VCALENDAR
VERSION:2.0
PRODID:-//ChamberMaster//Event Calendar 2.0//EN
METHOD:PUBLISH
X-PUBLISHED-TTL:P3D
REFRESH-INTERVAL:P3D
CALSCALE:GREGORIAN
BEGIN:VEVENT
DTSTART:20250308T153000Z
DTEND:20250308T163000Z
X-MICROSOFT-CDO-ALLDAYEVENT:FALSE
SUMMARY:Cape Community Orchestra Family Concert
DESCRIPTION:The Cape Community Orchestra invites you to a free family concert titled\, "A Morning at the Movies". Designed for elementary and middle school students\, this concert features music from Aladdin to Wicked\, and some Star Wars too. The audience will be introduced to the instruments of the orchestra\, the difference between a band and orchestra\, and how music helps to further the plot of a movie. We hope to educate and enrich the lives of school age children and their families by providing access to a live orchestral performance. Children must be accompanied by an adult.
X-ALT-DESC;FMTTYPE=text/html:The Cape Community Orchestra invites you to a free family concert titled\, &quot\;A Morning at the Movies&quot\;. Designed for elementary and middle school students\, this concert features music from Aladdin to Wicked\, and some Star Wars too. The audience will be introduced to the instruments of the orchestra\, the difference between a band and orchestra\, and how music helps to further the plot of a movie. We hope to educate and enrich the lives of school age children and their families by providing access to a live orchestral performance. Children must be accompanied by an adult.
LOCATION:Dennis/Yarmouth Regional High School
UID:e.1945.25594
SEQUENCE:3
DTSTAMP:20260420T200326Z
URL:https://business.harwichcc.com/events/details/cape-community-orchestra-family-concert-25594
END:VEVENT

END:VCALENDAR
