BEGIN:VCALENDAR
VERSION:2.0
PRODID:-//ChamberMaster//Event Calendar 2.0//EN
METHOD:PUBLISH
X-PUBLISHED-TTL:P3D
REFRESH-INTERVAL:P3D
CALSCALE:GREGORIAN
BEGIN:VEVENT
DTSTART:20231111T150000Z
DTEND:20231112T203000Z
X-MICROSOFT-CDO-ALLDAYEVENT:FALSE
SUMMARY:Cape Cod Tech's Annual Holiday Craft Fair
DESCRIPTION:Please join us at our annual craft fair\, located at Cape Cod Tech in Harwich! . These crafts are all hand-made and will benefit Cape Cod Tech students attending the prestigious SkillsUSA competition. We will be open all weekend on both Saturday and Sunday\, November 11th and 12th\, from 10:00 am - 3:30 pm. We look forward to seeing you there!
X-ALT-DESC;FMTTYPE=text/html:Please join us at our annual craft fair\, located at Cape Cod Tech in Harwich! . These crafts are all hand-made and will benefit Cape Cod Tech students attending the prestigious SkillsUSA competition. We will be open all weekend on both Saturday and Sunday\, November 11th and 12th\, from 10:00 am - 3:30 pm. We look forward to seeing you there!
LOCATION:Cape Cod Regional Technical High School -Pleasant Lake Ave\, Harwich\, MA 02645
UID:e.1945.25033
SEQUENCE:3
DTSTAMP:20260420T094957Z
URL:https://business.harwichcc.com/events/details/cape-cod-tech-s-annual-holiday-craft-fair-25033
END:VEVENT

END:VCALENDAR
