BEGIN:VCALENDAR
VERSION:2.0
PRODID:-//ChamberMaster//Event Calendar 2.0//EN
METHOD:PUBLISH
X-PUBLISHED-TTL:P3D
REFRESH-INTERVAL:P3D
CALSCALE:GREGORIAN
BEGIN:VEVENT
DTSTART;VALUE=DATE:20260514
DTEND;VALUE=DATE:20260515
TRANSP:TRANSPARENT
X-MICROSOFT-CDO-ALLDAYEVENT:TRUE
SUMMARY:Cape Cod Hospital Auxiliary - Comedy Night with Amy Barnes - 2 showings 5:00 & 7:00
DESCRIPTION:Join the Cape Cod Hospital Auxiliary   Chatham/Harwich Branch- for a hilarious night of comedy with Amy Barnes at the Chatham Orpheum.  You won't want to miss this one!\n\n	What: An exciting night of stand-up\n	When: Thursday\, May 14th\, 2026\n	Time: Two shows: 5pm or 7pm\n	The Price: $65.00\n\nTickets may be purchased at:\n\nhttps://www.ccha-chathamharwich.org/event/comedy-night-fundraiser/#tribe-tickets__tickets-form\n\nThis event supports the Cape Cod Hospital Family Birthing Center
X-ALT-DESC;FMTTYPE=text/html:Join the Cape Cod Hospital Auxiliary &ndash\; Chatham/Harwich Branch- for a hilarious night of comedy with Amy Barnes at the Chatham Orpheum. &nbsp\;You won&rsquo\;t want to miss this one!\n<ul>\n	<li><strong>What:</strong>&nbsp\;An exciting night of stand-up</li>\n	<li><strong>When:</strong>&nbsp\;Thursday\, May 14th\, 2026</li>\n	<li><strong><span style="background-color:#FFFF00">Time:</span></strong><span style="background-color:#FFFF00">&nbsp\;Two shows: </span><strong><u><span style="background-color:#FFFF00">5pm or 7pm</span></u></strong></li>\n	<li><strong>The Price:</strong>&nbsp\;$65.00</li>\n</ul>\nTickets may be purchased at:<br />\n<a href="https://www.ccha-chathamharwich.org/event/comedy-night-fundraiser/%23tribe-tickets__tickets-form">https://www.ccha-chathamharwich.org/event/comedy-night-fundraiser/#tribe-tickets__tickets-form</a><br />\nThis event supports the Cape Cod Hospital Family Birthing Center<br />\n&nbsp\;<br />\n&nbsp\;
LOCATION:Chatham Orpheum
UID:e.1945.25757
SEQUENCE:3
DTSTAMP:20260420T220321Z
URL:https://business.harwichcc.com/events/details/cape-cod-hospital-auxiliary-comedy-night-fundraiser-at-the-orpheum-theater-chatham-25757
END:VEVENT

END:VCALENDAR
