BEGIN:VCALENDAR
VERSION:2.0
PRODID:-//ChamberMaster//Event Calendar 2.0//EN
METHOD:PUBLISH
X-PUBLISHED-TTL:P3D
REFRESH-INTERVAL:P3D
CALSCALE:GREGORIAN
BEGIN:VEVENT
DTSTART:20260430T220000Z
DTEND:20260430T230000Z
X-MICROSOFT-CDO-ALLDAYEVENT:FALSE
SUMMARY:A History and A Future for Land Conservation on Cape Cod
DESCRIPTION:Mark H. Robinson\, long-time director of The Compact of Cape Cod Conservation Trusts\, will present a lively presentation on the "A History and A Future for Land Conservation on Cape Cod" for the Alliance to Protect Nantucket Sound's webinar series\, ACONS. Register for free at: https://tinyurl.com/Land-Conservation.\n\n \n\nThis presentation will provide an overview of themes driving efforts to preserve the Cape from early philanthropic gifts and civic beauty efforts to the powerful rise of land trusts and municipal programs beginning in earnest in the 1980s. Projected 21st century trends of eco-restoration and climate resilience will be discussed with a focus on local projects. A focus on beachfront and bayshore preservation on Nantucket Sound will be featured.\n\n\n\nPresented as part of A Celebration of Nantucket Sound (ACONS)\, the Alliance's free educational webinar series.\n\nAbout Mark Robinson:\n\n\n\nMark Robinson has served as director of The Compact since its founding in 1986. He has assisted Cape towns and land trusts in preserving more than 15\,000 acres of land as open space since then. The Compact represents 37 local and regional nonprofit land trusts and watershed groups operating on Cape Cod. Mark has served on the board of the Mass. Land Trust Coalition and is a regular lecturer at the state and national conference of land trusts. \n\n \n\nMark has lived and sailed out of Cotuit for most of his life. His happy place is at Meadow Point at the mouth of Popponesset Bay. He serves as chairman of the Cotuit Water Commission.
X-ALT-DESC;FMTTYPE=text/html:<p><strong><span style="font-family:arial\,sans-serif">Mark H. Robinson</span></strong><span style="font-family:arial\,sans-serif">\, long-time director of The Compact of Cape Cod Conservation Trusts\, will present a lively presentation on the&nbsp\;<strong>&ldquo\;A History and A Future for Land Conservation on Cape Cod&rdquo\;</strong></span>&nbsp\;for the Alliance to Protect Nantucket Sound&#39\;s webinar series\, ACONS. Register for free at:&nbsp\;<span style="font-family:aptos\,sans-serif"><span style="font-size:11.0pt"><a href="https://tinyurl.com/Land-Conservation"><span style="font-family:arial\,sans-serif">https://tinyurl.com/Land-Conservation</span></a>.</span></span><br />\n&nbsp\;<br />\n<span style="font-family:arial\,sans-serif">This presentation will provide an overview of themes driving efforts to preserve the Cape from early philanthropic gifts and civic beauty efforts to the powerful rise of land trusts and municipal programs beginning in earnest in the 1980s.&nbsp\;Projected 21st century trends of eco-restoration and climate resilience will be discussed with a focus on local projects.&nbsp\;A focus on beachfront and bayshore preservation on Nantucket Sound will be featured.</span><br />\n<br />\n<span style="font-family:arial\,sans-serif">Presented as part of <a href="http://www.saveoursound.org/acons"><strong><em>A Celebration of Nantucket Sound</em></strong> (<strong>ACONS</strong>)</a>\, the Alliance&rsquo\;s free educational webinar series.</span></p>\n\n<p><strong><u><span style="font-family:arial\,sans-serif">About Mark Robinson:</span></u></strong><br />\n<br />\n<span style="font-family:arial\,sans-serif"><span style="font-size:11.0pt">Mark Robinson has served as director of <strong>The Compact</strong> since its founding in 1986.&nbsp\;He has assisted Cape towns and land trusts in preserving more than 15\,000 acres of land as open space since then.&nbsp\;The Compact represents 37 local and regional nonprofit land trusts and watershed groups operating on Cape Cod.&nbsp\;Mark has served on the board of the <strong>Mass. Land Trust Coalition</strong> and is a regular lecturer at the state and national conference of land trusts.&nbsp\;</span></span><br />\n&nbsp\;<br />\n<span style="font-family:arial\,sans-serif"><span style="font-size:11.0pt">Mark has lived and sailed out of Cotuit for most of his life. His happy place is at Meadow Point at the mouth of Popponesset Bay. He serves as chairman of the Cotuit Water Commission.&nbsp\;</span></span><br />\n&nbsp\;</p>\n
LOCATION:Virtual\; on Zoom
UID:e.1945.25752
SEQUENCE:3
DTSTAMP:20260423T123744Z
URL:https://business.harwichcc.com/events/details/a-history-and-a-future-for-land-conservation-on-cape-cod-25752
END:VEVENT

END:VCALENDAR
