BEGIN:VCALENDAR
VERSION:2.0
PRODID:-//ChamberMaster//Event Calendar 2.0//EN
METHOD:PUBLISH
X-PUBLISHED-TTL:P3D
REFRESH-INTERVAL:P3D
CALSCALE:GREGORIAN
BEGIN:VEVENT
DTSTART:20250624T220000Z
DTEND:20250624T230000Z
X-MICROSOFT-CDO-ALLDAYEVENT:FALSE
SUMMARY:A Dementia Discussion
DESCRIPTION:Please join Certified Dementia Practitioner and Patient Care Advocate\, Kerry MacDonald from Continuum Hospice\, in a discussion on dementia. She will be discussing dementia behaviors\, safety at home\, when it's time to think of placement for your loved one\, and more. Kerry will speak for approximately an hour\, and then we will open it up to Q & A\, with light refreshments. Please feel free to tour our facility and take a brochure.\n\n\n\nWe hope to see you there!\n\nPlease call and ask to speak with Scott to RSVP!\n\n508-432-0135
X-ALT-DESC;FMTTYPE=text/html:<span style="font-family:verdana"><strong>Please join Certified Dementia Practitioner and Patient Care Advocate\, Kerry MacDonald from Continuum Hospice\, in a discussion on dementia. She will be discussing dementia behaviors\, safety at home\, when it&rsquo\;s time to think of placement for your loved one\, and more. Kerry will speak for approximately an hour\, and then we will open it up to Q &amp\; A\, with light refreshments. Please feel free to tour our facility and take a brochure.<br />\n<br />\nWe hope to see you there!<br />\nPlease call and ask to speak with Scott to RSVP!<br />\n508-432-0135</strong></span>
LOCATION:Rosewood Manor Rest Home 671 Main Street Harwich\, MA 02645
UID:e.1945.25670
SEQUENCE:3
DTSTAMP:20260420T151019Z
URL:https://business.harwichcc.com/events/details/a-dementia-discussion-25670
END:VEVENT

END:VCALENDAR
